BEGIN:VCALENDAR
VERSION:2.0
PRODID:-//eventon.com NONSGML v1.0//EN
CALSCALE:GREGORIAN
METHOD:PUBLISH
BEGIN:VEVENT
UID:69e96ee170116
DTSTAMP:20260423T005913Z
DTSTART:20260209T233000Z
DTEND:20260210T045000Z
LOCATION:
SUMMARY:Board of Supervisors Monthly Meeting
DESCRIPTION:The West Finley Township Board of Supervisors meet on the 2nd M
 onday of every month.\nhttps://westfinleypa.com/events/board-of-supervisors
 -monthly-meeting/
URL:https://westfinleypa.com/events/board-of-supervisors-monthly-meeting/
END:VEVENT
END:VCALENDAR