BEGIN:VCALENDAR
VERSION:2.0
PRODID:-//eventon.com NONSGML v1.0//EN
CALSCALE:GREGORIAN
METHOD:PUBLISH
BEGIN:VEVENT
UID:69e96dd3c9eb0
DTSTAMP:20260423T005443Z
DTSTART:20231219T000000Z
DTEND:20231219T045000Z
LOCATION:
SUMMARY:Volunteer Fire Company Meeting
DESCRIPTION:The West Finley Volunteer Fire Company meets on the 3rd Monday 
 of each month at 7pm at the West Finley Volunteer Fire Station.\nhttps://we
 stfinleypa.com/events/volunteer-fire-company-meeting/
URL:https://westfinleypa.com/events/volunteer-fire-company-meeting/
END:VEVENT
END:VCALENDAR